BEGIN:VCALENDAR
VERSION:2.0
PRODID:Prime Property Sunshine Coast Open for Inspection - Modern Unit
 Living In Prime Location
BEGIN:VTIMEZONE
TZID:Australia/Melbourne
BEGIN:STANDARD
DTSTART:20210227T103000
TZOFFSETTO:+1100
TZNAME:GMT+11
END:STANDARD
END:VTIMEZONE
BEGIN:VEVENT
UID:60392c0c2f622
DTSTART;TZID=Australia/Melbourne:20210227T103000
SEQUENCE:0
TRANSP:OPAQUE
DTEND;TZID=Australia/Melbourne:20210227T110000
LOCATION:151/8 Starling Street Buderim QLD
SUMMARY:Prime Property Sunshine Coast Open for Inspection - 151/8 Starling
 Street Buderim QLD
CLASS:PUBLIC
DESCRIPTION:Open for Inspection: 151/8 Starling Street Buderim QLD
 Saturday 27th Feb 10:30am - 11:00am Click the link for full listing
 information:
 https://www.primepropertysunshinecoast.com.au/sale/qld/sunshine-coast/buderim/residential/house/6319301
DTSTAMP:20210226T171244
END:VEVENT
END:VCALENDAR