BEGIN:VCALENDAR
VERSION:2.0
PRODID:Prime Property Sunshine Coast Open for Inspection - Modern Unit
 Living In Prime Location
BEGIN:VTIMEZONE
TZID:Australia/Melbourne
BEGIN:STANDARD
DTSTART:20210303T163000
TZOFFSETTO:+1100
TZNAME:GMT+11
END:STANDARD
END:VTIMEZONE
BEGIN:VEVENT
UID:60392c1c19ecb
DTSTART;TZID=Australia/Melbourne:20210303T163000
SEQUENCE:0
TRANSP:OPAQUE
DTEND;TZID=Australia/Melbourne:20210303T170000
LOCATION:151/8 Starling Street Buderim QLD
SUMMARY:Prime Property Sunshine Coast Open for Inspection - 151/8 Starling
 Street Buderim QLD
CLASS:PUBLIC
DESCRIPTION:Open for Inspection: 151/8 Starling Street Buderim QLD
 Wednesday 3rd Mar 16:30pm - 17:00pm Click the link for full listing
 information:
 https://www.primepropertysunshinecoast.com.au/sale/qld/sunshine-coast/buderim/residential/house/6319301
DTSTAMP:20210226T171300
END:VEVENT
END:VCALENDAR