BEGIN:VCALENDAR
VERSION:2.0
PRODID:Prime Property Sunshine Coast Open for Inspection - Convenient
 Lifestyle Unit Living In Prime Location
BEGIN:VTIMEZONE
TZID:Australia/Melbourne
BEGIN:STANDARD
DTSTART:20210303T170000
TZOFFSETTO:+1100
TZNAME:GMT+11
END:STANDARD
END:VTIMEZONE
BEGIN:VEVENT
UID:60392c1ee5fb0
DTSTART;TZID=Australia/Melbourne:20210303T170000
SEQUENCE:0
TRANSP:OPAQUE
DTEND;TZID=Australia/Melbourne:20210303T173000
LOCATION:281/8 Starling Buderim QLD
SUMMARY:Prime Property Sunshine Coast Open for Inspection - 281/8 Starling
 Buderim QLD
CLASS:PUBLIC
DESCRIPTION:Open for Inspection: 281/8 Starling Buderim QLD Wednesday 3rd
 Mar 17:00pm - 17:30pm Click the link for full listing information:
 https://www.primepropertysunshinecoast.com.au/sale/qld/sunshine-coast/buderim/residential/unit/6320433
DTSTAMP:20210226T171302
END:VEVENT
END:VCALENDAR