BEGIN:VCALENDAR
VERSION:2.0
PRODID:Prime Property Sunshine Coast Open for Inspection - Over 50's
 Resort Living - Choose Your Lifestyle
BEGIN:VTIMEZONE
TZID:Australia/Melbourne
BEGIN:STANDARD
DTSTART:20210227T120000
TZOFFSETTO:+1100
TZNAME:GMT+11
END:STANDARD
END:VTIMEZONE
BEGIN:VEVENT
UID:60392c14bbf1e
DTSTART;TZID=Australia/Melbourne:20210227T120000
SEQUENCE:0
TRANSP:OPAQUE
DTEND;TZID=Australia/Melbourne:20210227T123000
LOCATION:37/25 Owen Creek Road Forest Glen QLD
SUMMARY:Prime Property Sunshine Coast Open for Inspection - 37/25 Owen
 Creek Road Forest Glen QLD
CLASS:PUBLIC
DESCRIPTION:Open for Inspection: 37/25 Owen Creek Road Forest Glen QLD
 Saturday 27th Feb 12:00pm - 12:30pm Click the link for full listing
 information:
 https://www.primepropertysunshinecoast.com.au/sale/qld/sunshine-coast/forest-glen/residential/house/6289492
DTSTAMP:20210226T171252
END:VEVENT
END:VCALENDAR