BEGIN:VCALENDAR
VERSION:2.0
PRODID:Prime Property Sunshine Coast Open for Inspection - Over 50's
 Resort Living - Choose Your Lifestyle
BEGIN:VTIMEZONE
TZID:Australia/Melbourne
BEGIN:STANDARD
DTSTART:20210227T113000
TZOFFSETTO:+1100
TZNAME:GMT+11
END:STANDARD
END:VTIMEZONE
BEGIN:VEVENT
UID:60392c101ae28
DTSTART;TZID=Australia/Melbourne:20210227T113000
SEQUENCE:0
TRANSP:OPAQUE
DTEND;TZID=Australia/Melbourne:20210227T120000
LOCATION:161/25 Owen Creek Road Forest Glen QLD
SUMMARY:Prime Property Sunshine Coast Open for Inspection - 161/25 Owen
 Creek Road Forest Glen QLD
CLASS:PUBLIC
DESCRIPTION:Open for Inspection: 161/25 Owen Creek Road Forest Glen QLD
 Saturday 27th Feb 11:30am - 12:00pm Click the link for full listing
 information:
 https://www.primepropertysunshinecoast.com.au/sale/qld/sunshine-coast/forest-glen/residential/house/6302998
DTSTAMP:20210226T171248
END:VEVENT
END:VCALENDAR